BEGIN:VCALENDAR
VERSION:2.0
PRODID:-//BUND e.V. Ortsgruppe Görlitz - ECPv6.15.20//NONSGML v1.0//EN
CALSCALE:GREGORIAN
METHOD:PUBLISH
X-ORIGINAL-URL:https://bund-goerlitz.de
X-WR-CALDESC:Veranstaltungen für BUND e.V. Ortsgruppe Görlitz
REFRESH-INTERVAL;VALUE=DURATION:PT1H
X-Robots-Tag:noindex
X-PUBLISHED-TTL:PT1H
BEGIN:VTIMEZONE
TZID:Europe/Berlin
BEGIN:DAYLIGHT
TZOFFSETFROM:+0100
TZOFFSETTO:+0200
TZNAME:CEST
DTSTART:20220327T010000
END:DAYLIGHT
BEGIN:STANDARD
TZOFFSETFROM:+0200
TZOFFSETTO:+0100
TZNAME:CET
DTSTART:20221030T010000
END:STANDARD
BEGIN:DAYLIGHT
TZOFFSETFROM:+0100
TZOFFSETTO:+0200
TZNAME:CEST
DTSTART:20230326T010000
END:DAYLIGHT
BEGIN:STANDARD
TZOFFSETFROM:+0200
TZOFFSETTO:+0100
TZNAME:CET
DTSTART:20231029T010000
END:STANDARD
BEGIN:DAYLIGHT
TZOFFSETFROM:+0100
TZOFFSETTO:+0200
TZNAME:CEST
DTSTART:20240331T010000
END:DAYLIGHT
BEGIN:STANDARD
TZOFFSETFROM:+0200
TZOFFSETTO:+0100
TZNAME:CET
DTSTART:20241027T010000
END:STANDARD
END:VTIMEZONE
BEGIN:VEVENT
DTSTART;TZID=Europe/Berlin:20230507T153000
DTEND;TZID=Europe/Berlin:20230507T173000
DTSTAMP:20260425T015428
CREATED:20230220T184452Z
LAST-MODIFIED:20230220T185201Z
UID:1609-1683473400-1683480600@bund-goerlitz.de
SUMMARY:Kiddical mass
DESCRIPTION:„Straßen sind für alle da“\n90.000 Kinder\, Jugendliche\, Familien und Freund*innen machten sich im Mai und September 2022 bei der Kidical Mass für mehr Sicherheit von Kindern im Straßenverkehr stark. Bei über 400 bunten Fahrraddemos in kleinen und großen Städten forderten die Menschen eine kinderfreundliche Verkehrspolitik und ein neues Straßenverkehrsrecht. \n2023 geht es mit viel Schwung weiter! Gemeinsam verändern wir unsere Straßen. \nAuch in Görlitz wollen wir wieder gemeinsam radeln – gemeinsam für eine kinderfreundliche Stadt und eine kindgerechte und klimagerechte Verkehrswende! \nWir treffen uns ab ca. 15:30 Uhr vor dem Dicken Turm und wollen gegen 16 Uhr gemeinsam losradeln! Ende ist dann ca. 17 Uhr am Rabryka – Garten.
URL:https://bund-goerlitz.de/event/kiddical-mass/
LOCATION:Dicker Turm\, Marienplatz\, Marienplatz\, Görlitz\, 02826\, Deutschland
CATEGORIES:Critical mass,Demo
ATTACH;FMTTYPE=image/jpeg:https://bund-goerlitz.de/wp-content/uploads/2023/02/Kidical_14.jpg
END:VEVENT
END:VCALENDAR